BEGIN:VCALENDAR
VERSION:2.0
PRODID:-//ENSA Montpellier - ECPv6.15.20//NONSGML v1.0//EN
CALSCALE:GREGORIAN
METHOD:PUBLISH
X-WR-CALNAME:ENSA Montpellier
X-ORIGINAL-URL:https://www.montpellier.archi.fr
X-WR-CALDESC:Évènements pour ENSA Montpellier
REFRESH-INTERVAL;VALUE=DURATION:PT1H
X-Robots-Tag:noindex
X-PUBLISHED-TTL:PT1H
BEGIN:VTIMEZONE
TZID:Europe/Paris
BEGIN:DAYLIGHT
TZOFFSETFROM:+0100
TZOFFSETTO:+0200
TZNAME:CEST
DTSTART:20250330T010000
END:DAYLIGHT
BEGIN:STANDARD
TZOFFSETFROM:+0200
TZOFFSETTO:+0100
TZNAME:CET
DTSTART:20251026T010000
END:STANDARD
BEGIN:DAYLIGHT
TZOFFSETFROM:+0100
TZOFFSETTO:+0200
TZNAME:CEST
DTSTART:20260329T010000
END:DAYLIGHT
BEGIN:STANDARD
TZOFFSETFROM:+0200
TZOFFSETTO:+0100
TZNAME:CET
DTSTART:20261025T010000
END:STANDARD
BEGIN:DAYLIGHT
TZOFFSETFROM:+0100
TZOFFSETTO:+0200
TZNAME:CEST
DTSTART:20270328T010000
END:DAYLIGHT
BEGIN:STANDARD
TZOFFSETFROM:+0200
TZOFFSETTO:+0100
TZNAME:CET
DTSTART:20271031T010000
END:STANDARD
END:VTIMEZONE
BEGIN:VEVENT
DTSTART;TZID=Europe/Paris:20260506T180000
DTEND;TZID=Europe/Paris:20260506T193000
DTSTAMP:20260420T052349
CREATED:20260413T094337Z
LAST-MODIFIED:20260417T095056Z
UID:66480-1778090400-1778095800@www.montpellier.archi.fr
SUMMARY:NICOLAS DE CRÉCY : Dessiner la ville
DESCRIPTION:Dans le cadre du domaine d’études Alt ZERO\, Nicolas De Crécy présentera sa pratique du dessin sur le motif\, spécifiquement dans un contexte d’architecture urbaine — Japon\, Mexique\, entre autre. \nBIOGRAPHIE DE L’AUTEUR \nNicolas de Crécy est né en 1966 à Lyon.\nAprès une première expérience dans l’animation chez Walt Disney\, il publie en 1991 Foligatto sur un récit d’Alexios Tjoyas (Les Humanoïdes Associés). Sa première œuvre en tant qu’auteur complet\, le Bibendum Céleste\, paraît en 1994. Il obtient l’Alph-Art du meilleur album pour le second tome de Léon la Came\, (texte de Sylvain Chomet\, chez Casterman)\, en 1997. Suivent une quarantaine de livres\, explorant diverses pistes : illustration jeunesse\, carnets de voyage\, textes personnels illustrés\, etc. Il sera le premier auteur de la collection de bande dessinée initiée par le musée du Louvre\, en 2005\, avec Période Glaciaire. Il sera également un des rares auteurs à être publié directement au Japon avec La République du catch\, édité par Shueisha Publishing et paru dans le mensuel Ultrajump. Pensionnaire à la Villa Kujoyama (Kyoto) en 2008\, il y développe des projets\, parmi lesquels Carnets du Japon ou Esthétiques du quotidien au Japon\, ainsi que des collaborations avec des artistes japonais (en 2014\, il publie un Artbook avec le mangaka Tayio Matsumoto). En 2019\, Nicolas de Crécy a écrit et illustré Les amours d’un fantôme en temps de guerre\, sorti chez Albin Michel et récompensé par le prix Vendredi 2018. Son premier roman\, Vieux Criminels\, est sorti chez Gallimard en 2021\, suivit en 2026 du Syndrome de Kyoto\, chez Gallimard également.\nSon travail dans le domaine des arts plastiques a fait l’objet de nombreuses expositions\, notamment aux centres d’art contemporain de Quimper\, à la Ferme du Buisson ou au musée Thomas Henry de Cherbourg. Ses livres ont été traduit en Europe\, aux États-Unis et au Japon.
URL:https://www.montpellier.archi.fr/evenements/nicolas-de-crecy-dessiner-la-ville/
LOCATION:ENSAM | amphi 1\, 179 Rue de l'Esperou\, Montpellier\, 34090\, France
ATTACH;FMTTYPE=image/jpeg:https://www.montpellier.archi.fr/wp-content/uploads/DECRECY-Paroisse-des-Saints-305x788-130052-LD113053-scaled.jpg
END:VEVENT
END:VCALENDAR