BEGIN:VCALENDAR
VERSION:2.0
PRODID:-//ENSA Montpellier - ECPv6.15.20//NONSGML v1.0//EN
CALSCALE:GREGORIAN
METHOD:PUBLISH
X-WR-CALNAME:ENSA Montpellier
X-ORIGINAL-URL:https://www.montpellier.archi.fr
X-WR-CALDESC:Évènements pour ENSA Montpellier
REFRESH-INTERVAL;VALUE=DURATION:PT1H
X-Robots-Tag:noindex
X-PUBLISHED-TTL:PT1H
BEGIN:VTIMEZONE
TZID:Europe/Paris
BEGIN:DAYLIGHT
TZOFFSETFROM:+0100
TZOFFSETTO:+0200
TZNAME:CEST
DTSTART:20240331T010000
END:DAYLIGHT
BEGIN:STANDARD
TZOFFSETFROM:+0200
TZOFFSETTO:+0100
TZNAME:CET
DTSTART:20241027T010000
END:STANDARD
BEGIN:DAYLIGHT
TZOFFSETFROM:+0100
TZOFFSETTO:+0200
TZNAME:CEST
DTSTART:20250330T010000
END:DAYLIGHT
BEGIN:STANDARD
TZOFFSETFROM:+0200
TZOFFSETTO:+0100
TZNAME:CET
DTSTART:20251026T010000
END:STANDARD
BEGIN:DAYLIGHT
TZOFFSETFROM:+0100
TZOFFSETTO:+0200
TZNAME:CEST
DTSTART:20260329T010000
END:DAYLIGHT
BEGIN:STANDARD
TZOFFSETFROM:+0200
TZOFFSETTO:+0100
TZNAME:CET
DTSTART:20261025T010000
END:STANDARD
END:VTIMEZONE
BEGIN:VEVENT
DTSTART;TZID=Europe/Paris:20251029T160000
DTEND;TZID=Europe/Paris:20251029T190000
DTSTAMP:20260422T094230
CREATED:20251022T131201Z
LAST-MODIFIED:20251024T101857Z
UID:63079-1761753600-1761764400@www.montpellier.archi.fr
SUMMARY:Projection-débat "Penser l'incertitude" Christian Barani
DESCRIPTION:L’ENSAM et l’ARPAL en partenariat avec la Maom\, proposent une projection-débat du film “Penser l’incertitude” en présence de Christian Barani\, réalisateur du film\, Margaux Darrieus\, critique et journaliste\, lauréate AJAP 2023 et Daniel Bicho\, lauréat AJAP 2023. \nPENSER L’INCERTITUDE\, UN FILM DE CHRISTIAN BARANI (documentaire / France / 2024 / 1h 39min.) \nTel un voyage à travers la France\, ses territoires et les paysages\, le film dresse le portrait d’une nouvelle génération\, dévoile ses valeurs communes et les espoirs qu’elle porte. Parcourant les paysages\, traversant les chantiers\, visitant des bâtiments\, les jeunes professionnel.le.s témoignent de leur travail\, du sens d’un engagement délicat et d’une attention à prendre soin des territoires\, de celles et de ceux qui y vivent. \nOrganisé par le ministère de la Culture\, le palmarès des Albums des Jeunes Architectes et Paysagistes et Autres Voies de l’architecture (AJAP) récompense les jeunes professionnels qui se distinguent par leurs capacités de conception et d’innovation\, le soin apporté à la réalisation de leurs projets et par leur engagement au regard des enjeux sociétaux. \nSur proposition de l’Institut français en collaboration avec le ministère de la Culture et le mécénat de la Caisse des Dépôts\, le cinéaste Christian Barani a été invité à réaliser un long métrage documentaire présentant les lauréat.e.s. \nLe film est produit par l’Institut français\, avec le soutien du Ministère de la culture et du mécénat de la Caisse des Dépôts.\nImage de ville en dirige la production exécutive et coordonne la diffusion du film sur le territoire national.
URL:https://www.montpellier.archi.fr/evenements/projection-debat-penser-lincertitude-christian-barani/
LOCATION:ENSAM | amphi 1\, 179 Rue de l'Esperou\, Montpellier\, 34090\, France
ATTACH;FMTTYPE=image/jpeg:https://www.montpellier.archi.fr/wp-content/uploads/PENSER-LINCERTITUDE-AFFICHE_CARRE╠u.jpg
END:VEVENT
END:VCALENDAR